BEGIN:VCALENDAR
VERSION:2.0
PRODID:-//Aquinas College - Nashville, Tennessee - ECPv6.15.13//NONSGML v1.0//EN
CALSCALE:GREGORIAN
METHOD:PUBLISH
X-WR-CALNAME:Aquinas College - Nashville, Tennessee
X-ORIGINAL-URL:https://www.aquinascollege.edu
X-WR-CALDESC:Events for Aquinas College - Nashville, Tennessee
REFRESH-INTERVAL;VALUE=DURATION:PT1H
X-Robots-Tag:noindex
X-PUBLISHED-TTL:PT1H
BEGIN:VTIMEZONE
TZID:America/Chicago
BEGIN:DAYLIGHT
TZOFFSETFROM:-0600
TZOFFSETTO:-0500
TZNAME:CDT
DTSTART:20230312T080000
END:DAYLIGHT
BEGIN:STANDARD
TZOFFSETFROM:-0500
TZOFFSETTO:-0600
TZNAME:CST
DTSTART:20231105T070000
END:STANDARD
BEGIN:DAYLIGHT
TZOFFSETFROM:-0600
TZOFFSETTO:-0500
TZNAME:CDT
DTSTART:20240310T080000
END:DAYLIGHT
BEGIN:STANDARD
TZOFFSETFROM:-0500
TZOFFSETTO:-0600
TZNAME:CST
DTSTART:20241103T070000
END:STANDARD
BEGIN:DAYLIGHT
TZOFFSETFROM:-0600
TZOFFSETTO:-0500
TZNAME:CDT
DTSTART:20250309T080000
END:DAYLIGHT
BEGIN:STANDARD
TZOFFSETFROM:-0500
TZOFFSETTO:-0600
TZNAME:CST
DTSTART:20251102T070000
END:STANDARD
BEGIN:DAYLIGHT
TZOFFSETFROM:-0600
TZOFFSETTO:-0500
TZNAME:CDT
DTSTART:20260308T080000
END:DAYLIGHT
BEGIN:STANDARD
TZOFFSETFROM:-0500
TZOFFSETTO:-0600
TZNAME:CST
DTSTART:20261101T070000
END:STANDARD
END:VTIMEZONE
BEGIN:VEVENT
DTSTART;VALUE=DATE:20240311
DTEND;VALUE=DATE:20240316
DTSTAMP:20260419T171708
CREATED:20230515T183740Z
LAST-MODIFIED:20230515T183740Z
UID:10000215-1710115200-1710547199@www.aquinascollege.edu
SUMMARY:Spring Break - March 11-15\, 2024
DESCRIPTION:There are no classes during spring break; however\, the college will remain open during normal operating hours.
URL:https://www.aquinascollege.edu/calendar-event/spring-break-march-11-15-2024/
LOCATION:Aquinas College\, 4210 Harding Pike\, Nashville\, TN\, 37205\, United States
GEO:36.132385;-86.842673
X-APPLE-STRUCTURED-LOCATION;VALUE=URI;X-ADDRESS=Aquinas College 4210 Harding Pike Nashville TN 37205 United States;X-APPLE-RADIUS=500;X-TITLE=4210 Harding Pike:geo:-86.842673,36.132385
END:VEVENT
BEGIN:VEVENT
DTSTART;TZID=America/Chicago:20240322T091500
DTEND;TZID=America/Chicago:20240322T120000
DTSTAMP:20260419T171709
CREATED:20240219T160405Z
LAST-MODIFIED:20240312T135728Z
UID:10000170-1711098900-1711108800@www.aquinascollege.edu
SUMMARY:Introduction to Catechesis of the Good Shepherd
DESCRIPTION:An introductory workshop on the Catechesis of the Good Shepherd. Parents\, catechists\, priests\, and school and parish staff are welcome to attend. A small offering is requested to help cover the event. RSVP to cgs@aquinascollege.edu. \n 
URL:https://www.aquinascollege.edu/calendar-event/introduction-to-catechesis-of-the-good-shepherd/
LOCATION:Aquinas Center Building\, 4210 Harding Pike\, Nashville\, TN\, 37205\, United States
END:VEVENT
BEGIN:VEVENT
DTSTART;VALUE=DATE:20240328
DTEND;VALUE=DATE:20240329
DTSTAMP:20260419T171709
CREATED:20230515T184006Z
LAST-MODIFIED:20230515T184006Z
UID:10000216-1711584000-1711670399@www.aquinascollege.edu
SUMMARY:Holy Thursday - College Closed
DESCRIPTION:
URL:https://www.aquinascollege.edu/calendar-event/holy-thursday-college-closed-2/
LOCATION:Aquinas College\, 4210 Harding Pike\, Nashville\, TN\, 37205\, United States
GEO:36.132385;-86.842673
X-APPLE-STRUCTURED-LOCATION;VALUE=URI;X-ADDRESS=Aquinas College 4210 Harding Pike Nashville TN 37205 United States;X-APPLE-RADIUS=500;X-TITLE=4210 Harding Pike:geo:-86.842673,36.132385
END:VEVENT
BEGIN:VEVENT
DTSTART;VALUE=DATE:20240329
DTEND;VALUE=DATE:20240330
DTSTAMP:20260419T171709
CREATED:20230515T184125Z
LAST-MODIFIED:20230515T184125Z
UID:10000217-1711670400-1711756799@www.aquinascollege.edu
SUMMARY:Good Friday - College Closed
DESCRIPTION:
URL:https://www.aquinascollege.edu/calendar-event/good-friday-college-closed-2/
LOCATION:Aquinas College\, 4210 Harding Pike\, Nashville\, TN\, 37205\, United States
GEO:36.132385;-86.842673
X-APPLE-STRUCTURED-LOCATION;VALUE=URI;X-ADDRESS=Aquinas College 4210 Harding Pike Nashville TN 37205 United States;X-APPLE-RADIUS=500;X-TITLE=4210 Harding Pike:geo:-86.842673,36.132385
END:VEVENT
BEGIN:VEVENT
DTSTART;VALUE=DATE:20240401
DTEND;VALUE=DATE:20240402
DTSTAMP:20260419T171709
CREATED:20230515T184207Z
LAST-MODIFIED:20230515T184207Z
UID:10000218-1711929600-1712015999@www.aquinascollege.edu
SUMMARY:Easter Monday - College Closed
DESCRIPTION:
URL:https://www.aquinascollege.edu/calendar-event/easter-monday-college-closed-2/
LOCATION:Aquinas College\, 4210 Harding Pike\, Nashville\, TN\, 37205\, United States
GEO:36.132385;-86.842673
X-APPLE-STRUCTURED-LOCATION;VALUE=URI;X-ADDRESS=Aquinas College 4210 Harding Pike Nashville TN 37205 United States;X-APPLE-RADIUS=500;X-TITLE=4210 Harding Pike:geo:-86.842673,36.132385
END:VEVENT
BEGIN:VEVENT
DTSTART;VALUE=DATE:20240425
DTEND;VALUE=DATE:20240426
DTSTAMP:20260419T171709
CREATED:20240311T192726Z
LAST-MODIFIED:20240311T192726Z
UID:10000240-1714003200-1714089599@www.aquinascollege.edu
SUMMARY:Last Day of Spring 2024 Semester
DESCRIPTION:The last day of the spring 2024 semester at Aquinas College will be Thursday\, April 25\, 2024. Final exams will begin on Monday\, April 29. 2024.
URL:https://www.aquinascollege.edu/calendar-event/last-day-of-spring-2024-semester/
LOCATION:Aquinas College\, 4210 Harding Pike\, Nashville\, TN\, 37205\, United States
CATEGORIES:Academic Calendar
GEO:36.132146;-86.844147
X-APPLE-STRUCTURED-LOCATION;VALUE=URI;X-ADDRESS=Aquinas College 4210 Harding Pike Nashville TN 37205 United States;X-APPLE-RADIUS=500;X-TITLE=4210 Harding Pike:geo:-86.844147,36.132146
END:VEVENT
BEGIN:VEVENT
DTSTART;TZID=America/Chicago:20240425T190000
DTEND;TZID=America/Chicago:20240425T203000
DTSTAMP:20260419T171709
CREATED:20230828T135408Z
LAST-MODIFIED:20240423T135419Z
UID:10000223-1714071600-1714077000@www.aquinascollege.edu
SUMMARY:Eucharistic Lecture Series: "Eucharist - The Amazing Real Presence in a Humanistic World"
DESCRIPTION:
URL:https://www.aquinascollege.edu/calendar-event/faulkner/
LOCATION:Aquinas Center Building\, 4210 Harding Pike\, Nashville\, TN\, 37205\, United States
END:VEVENT
BEGIN:VEVENT
DTSTART;VALUE=DATE:20240429
DTEND;VALUE=DATE:20240502
DTSTAMP:20260419T171709
CREATED:20230515T184456Z
LAST-MODIFIED:20240312T135621Z
UID:10000219-1714348800-1714607999@www.aquinascollege.edu
SUMMARY:Final Exams
DESCRIPTION:Final exams will be held from Monday\, April 29 thru Wednesday\, May 1. \nPlease click here for the final exam schedule. Should your course not be listed on the final exam schedule\, please check with your instructor as to when/if an exam for your course is to be scheduled.
URL:https://www.aquinascollege.edu/calendar-event/final-exams-spring-2024/
LOCATION:Aquinas College\, 4210 Harding Pike\, Nashville\, TN\, 37205\, United States
CATEGORIES:Academic Calendar,FYI
GEO:36.132385;-86.842673
X-APPLE-STRUCTURED-LOCATION;VALUE=URI;X-ADDRESS=Aquinas College 4210 Harding Pike Nashville TN 37205 United States;X-APPLE-RADIUS=500;X-TITLE=4210 Harding Pike:geo:-86.842673,36.132385
END:VEVENT
BEGIN:VEVENT
DTSTART;VALUE=DATE:20240704
DTEND;VALUE=DATE:20240705
DTSTAMP:20260419T171709
CREATED:20240311T143649Z
LAST-MODIFIED:20240311T165124Z
UID:10000180-1720051200-1720137599@www.aquinascollege.edu
SUMMARY:Independence Day - College Closed
DESCRIPTION:Aquinas College will be closed on Thursday\, July 4 and Friday\, July 5\, 2024 in honor of the Independence Day holiday.
URL:https://www.aquinascollege.edu/calendar-event/independence-day-college-closed/
LOCATION:Aquinas College\, 4210 Harding Pike\, Nashville\, TN\, 37205\, United States
CATEGORIES:Academic Calendar
GEO:36.132146;-86.844147
X-APPLE-STRUCTURED-LOCATION;VALUE=URI;X-ADDRESS=Aquinas College 4210 Harding Pike Nashville TN 37205 United States;X-APPLE-RADIUS=500;X-TITLE=4210 Harding Pike:geo:-86.844147,36.132146
END:VEVENT
BEGIN:VEVENT
DTSTART;VALUE=DATE:20240819
DTEND;VALUE=DATE:20240820
DTSTAMP:20260419T171709
CREATED:20240311T131753Z
LAST-MODIFIED:20240312T144345Z
UID:10000176-1724025600-1724111999@www.aquinascollege.edu
SUMMARY:Fall 2024 Semester Begins
DESCRIPTION:The 2024 fall semester courses begin on Monday\, August 19\, 2024. To view course schedules and the auditing brochure\, please click on the links below. \n  \nTo view the Undergraduate course schedule for the fall 2024 semester\, please click here. \nTo view the Graduate course schedule for the fall 2024 semester\, please click here. \nIf you are interested in Auditing courses in the fall 2024 semester\, please click here to view the brochure for more information.
URL:https://www.aquinascollege.edu/calendar-event/fall-semester-begins-2/
LOCATION:Aquinas College\, 4210 Harding Pike\, Nashville\, TN\, 37205\, United States
GEO:36.132146;-86.844147
X-APPLE-STRUCTURED-LOCATION;VALUE=URI;X-ADDRESS=Aquinas College 4210 Harding Pike Nashville TN 37205 United States;X-APPLE-RADIUS=500;X-TITLE=4210 Harding Pike:geo:-86.844147,36.132146
END:VEVENT
BEGIN:VEVENT
DTSTART;TZID=America/Chicago:20240822T110000
DTEND;TZID=America/Chicago:20240822T123000
DTSTAMP:20260419T171709
CREATED:20240311T164942Z
LAST-MODIFIED:20240723T184055Z
UID:10000182-1724324400-1724329800@www.aquinascollege.edu
SUMMARY:Mass of the Holy Spirit
DESCRIPTION:The Mass of the Holy Spirit will be held at 11:00 a.m. on Thursday\, August 22\, 2024 in the Aquinas Center. Lunch will be served following the Mass. Kindly RSVP to AquinasEvents@aquinascollege.edu. \n 
URL:https://www.aquinascollege.edu/calendar-event/mass-of-the-holy-spirit-2024/
LOCATION:Aquinas Center Building\, 4210 Harding Pike\, Nashville\, TN\, 37205\, United States
END:VEVENT
BEGIN:VEVENT
DTSTART;VALUE=DATE:20240902
DTEND;VALUE=DATE:20240903
DTSTAMP:20260419T171709
CREATED:20240311T063323Z
LAST-MODIFIED:20240311T183610Z
UID:10000174-1725235200-1725321599@www.aquinascollege.edu
SUMMARY:Labor Day - College Closed
DESCRIPTION:Aquinas College will be closed in honor of Labor Day on Monday\, September 2\, 2024.
URL:https://www.aquinascollege.edu/calendar-event/labor-day-college-closed-3/
LOCATION:Aquinas College\, 4210 Harding Pike\, Nashville\, TN\, 37205\, United States
CATEGORIES:Academic Calendar
GEO:36.132385;-86.842673
X-APPLE-STRUCTURED-LOCATION;VALUE=URI;X-ADDRESS=Aquinas College 4210 Harding Pike Nashville TN 37205 United States;X-APPLE-RADIUS=500;X-TITLE=4210 Harding Pike:geo:-86.842673,36.132385
END:VEVENT
BEGIN:VEVENT
DTSTART;TZID=America/Chicago:20240912T090000
DTEND;TZID=America/Chicago:20240912T110000
DTSTAMP:20260419T171709
CREATED:20240725T172637Z
LAST-MODIFIED:20240725T172637Z
UID:10000242-1726131600-1726138800@www.aquinascollege.edu
SUMMARY:Siena Hall Conference Center Open House
DESCRIPTION:
URL:https://www.aquinascollege.edu/calendar-event/siena-hall-conference-center-open-house/
LOCATION:Aquinas College Siena Hall\, 4210 Harding Pike\, Nashville\, TN\, 37205\, United States
CATEGORIES:Siena Hall Conference Center
GEO:36.132385;-86.842673
X-APPLE-STRUCTURED-LOCATION;VALUE=URI;X-ADDRESS=Aquinas College Siena Hall 4210 Harding Pike Nashville TN 37205 United States;X-APPLE-RADIUS=500;X-TITLE=4210 Harding Pike:geo:-86.842673,36.132385
END:VEVENT
BEGIN:VEVENT
DTSTART;TZID=America/Chicago:20240919T190000
DTEND;TZID=America/Chicago:20240919T203000
DTSTAMP:20260419T171709
CREATED:20240905T143612Z
LAST-MODIFIED:20240905T143612Z
UID:10000244-1726772400-1726777800@www.aquinascollege.edu
SUMMARY:Saint Thomas Aquinas On Prayer - Lecture #1 of our "Lord\, Teach Us to Pray" Lecture Series
DESCRIPTION:
URL:https://www.aquinascollege.edu/calendar-event/saint-thomas-aquinas-on-prayer-lecture-1-of-our-lord-teach-us-to-pray-lecture-series/
LOCATION:Aquinas Center Building\, 4210 Harding Pike\, Nashville\, TN\, 37205\, United States
CATEGORIES:Public Lectures and Programs
END:VEVENT
BEGIN:VEVENT
DTSTART;TZID=America/Chicago:20241015T111000
DTEND;TZID=America/Chicago:20241015T121000
DTSTAMP:20260419T171709
CREATED:20240820T154700Z
LAST-MODIFIED:20240930T174319Z
UID:10000243-1728990600-1728994200@www.aquinascollege.edu
SUMMARY:2024 Fall Siena Lecture
DESCRIPTION:
URL:https://www.aquinascollege.edu/calendar-event/2024-fall-siena-lecture/
LOCATION:Aquinas College\, Breen Hall\, 4210 Harding Pike\, Nashville\, TN\, 37205\, United States
CATEGORIES:Academic Calendar
ORGANIZER;CN="Aquinas College Office of Academics":MAILTO:academicsoffice@aquinascollege.edu
GEO:36.132385;-86.842673
X-APPLE-STRUCTURED-LOCATION;VALUE=URI;X-ADDRESS=Aquinas College Breen Hall 4210 Harding Pike Nashville TN 37205 United States;X-APPLE-RADIUS=500;X-TITLE=4210 Harding Pike:geo:-86.842673,36.132385
END:VEVENT
BEGIN:VEVENT
DTSTART;VALUE=DATE:20241022
DTEND;VALUE=DATE:20241109
DTSTAMP:20260419T171709
CREATED:20241007T171657Z
LAST-MODIFIED:20241007T171657Z
UID:10000255-1729555200-1731110399@www.aquinascollege.edu
SUMMARY:Academic Advisement for Returning Students for Spring 2025
DESCRIPTION:Academic advisement for returning students for the Spring 2025 semester will be held from October 22 thru November 8\, 2024. Returning students must meet with their academic advisor before registering for the next semester.
URL:https://www.aquinascollege.edu/calendar-event/academic-advisement-for-returning-students-for-spring-2025/
LOCATION:Aquinas College\, 4210 Harding Pike\, Nashville\, TN\, 37205\, United States
CATEGORIES:Academic Calendar
GEO:36.132146;-86.844147
X-APPLE-STRUCTURED-LOCATION;VALUE=URI;X-ADDRESS=Aquinas College 4210 Harding Pike Nashville TN 37205 United States;X-APPLE-RADIUS=500;X-TITLE=4210 Harding Pike:geo:-86.844147,36.132146
END:VEVENT
BEGIN:VEVENT
DTSTART;TZID=America/Chicago:20241024T111500
DTEND;TZID=America/Chicago:20241024T121500
DTSTAMP:20260419T171709
CREATED:20241003T194206Z
LAST-MODIFIED:20241003T194306Z
UID:10000254-1729768500-1729772100@www.aquinascollege.edu
SUMMARY:Oktoberfest 2024
DESCRIPTION:
URL:https://www.aquinascollege.edu/calendar-event/oktoberfest-2024/
LOCATION:Aquinas College\, 4210 Harding Pike\, Nashville\, TN\, 37205\, United States
CATEGORIES:Academic Calendar,Student Life
GEO:36.132146;-86.844147
X-APPLE-STRUCTURED-LOCATION;VALUE=URI;X-ADDRESS=Aquinas College 4210 Harding Pike Nashville TN 37205 United States;X-APPLE-RADIUS=500;X-TITLE=4210 Harding Pike:geo:-86.844147,36.132146
END:VEVENT
BEGIN:VEVENT
DTSTART;TZID=America/Chicago:20241024T173000
DTEND;TZID=America/Chicago:20241024T183000
DTSTAMP:20260419T171709
CREATED:20240926T140631Z
LAST-MODIFIED:20240926T140631Z
UID:10000253-1729791000-1729794600@www.aquinascollege.edu
SUMMARY:Family Literacy Night
DESCRIPTION:
URL:https://www.aquinascollege.edu/calendar-event/family-literacy-night-4/
LOCATION:Aquinas Center Building\, 4210 Harding Pike\, Nashville\, TN\, 37205\, United States
END:VEVENT
BEGIN:VEVENT
DTSTART;TZID=America/Chicago:20241113T113000
DTEND;TZID=America/Chicago:20241113T120000
DTSTAMP:20260419T171709
CREATED:20241030T154653Z
LAST-MODIFIED:20241030T154855Z
UID:10000256-1731497400-1731499200@www.aquinascollege.edu
SUMMARY:Brown Bag Mini-Lecture
DESCRIPTION:
URL:https://www.aquinascollege.edu/calendar-event/brown-bag-mini-lecture/
LOCATION:Aquinas College\, Breen Hall\, 4210 Harding Pike\, Nashville\, TN\, 37205\, United States
CATEGORIES:Academic Calendar
ORGANIZER;CN="Office of Student Affairs":MAILTO:srmedith@aquinascollege.edu
GEO:36.132385;-86.842673
X-APPLE-STRUCTURED-LOCATION;VALUE=URI;X-ADDRESS=Aquinas College Breen Hall 4210 Harding Pike Nashville TN 37205 United States;X-APPLE-RADIUS=500;X-TITLE=4210 Harding Pike:geo:-86.842673,36.132385
END:VEVENT
BEGIN:VEVENT
DTSTART;VALUE=DATE:20241126
DTEND;VALUE=DATE:20241127
DTSTAMP:20260419T171709
CREATED:20240311T180658Z
LAST-MODIFIED:20240311T184120Z
UID:10000235-1732579200-1732665599@www.aquinascollege.edu
SUMMARY:Last Day of Fall 2024 Semester
DESCRIPTION:Tuesday\, November 26\, 2024 will be the last day of fall semester courses at Aquinas College before final exams begin.
URL:https://www.aquinascollege.edu/calendar-event/last-day-of-fall-2024-semester/
LOCATION:Aquinas College\, 4210 Harding Pike\, Nashville\, TN\, 37205\, United States
CATEGORIES:Academic Calendar
GEO:36.132385;-86.842673
X-APPLE-STRUCTURED-LOCATION;VALUE=URI;X-ADDRESS=Aquinas College 4210 Harding Pike Nashville TN 37205 United States;X-APPLE-RADIUS=500;X-TITLE=4210 Harding Pike:geo:-86.842673,36.132385
END:VEVENT
BEGIN:VEVENT
DTSTART;VALUE=DATE:20241127
DTEND;VALUE=DATE:20241130
DTSTAMP:20260419T171709
CREATED:20240311T180528Z
LAST-MODIFIED:20240311T184359Z
UID:10000234-1732665600-1732924799@www.aquinascollege.edu
SUMMARY:Thanksgiving Week
DESCRIPTION:Aquinas College will be closed from Wednesday\, November 27 thru Friday\, November 29 in honor of the Thanksgiving holiday.
URL:https://www.aquinascollege.edu/calendar-event/thanksgiving-week/
LOCATION:Aquinas College\, 4210 Harding Pike\, Nashville\, TN\, 37205\, United States
CATEGORIES:Academic Calendar
GEO:36.132385;-86.842673
X-APPLE-STRUCTURED-LOCATION;VALUE=URI;X-ADDRESS=Aquinas College 4210 Harding Pike Nashville TN 37205 United States;X-APPLE-RADIUS=500;X-TITLE=4210 Harding Pike:geo:-86.842673,36.132385
END:VEVENT
BEGIN:VEVENT
DTSTART;TZID=America/Chicago:20241209T190000
DTEND;TZID=America/Chicago:20241209T203000
DTSTAMP:20260419T171709
CREATED:20240912T162307Z
LAST-MODIFIED:20240917T180938Z
UID:10000245-1733770800-1733776200@www.aquinascollege.edu
SUMMARY:My Soul in Stillness Waits - Lecture #2 of our "Lord\, Teach Us to Pray" Lecture Series
DESCRIPTION:  \n \n 
URL:https://www.aquinascollege.edu/calendar-event/my-soul-in-stillness-waits-lord-teach-us-to-pray-lecture-series/
LOCATION:Aquinas Center Building\, 4210 Harding Pike\, Nashville\, TN\, 37205\, United States
CATEGORIES:Public Lectures and Programs
END:VEVENT
BEGIN:VEVENT
DTSTART;VALUE=DATE:20241223
DTEND;VALUE=DATE:20250104
DTSTAMP:20260419T171709
CREATED:20240311T181251Z
LAST-MODIFIED:20240311T184807Z
UID:10000236-1734912000-1735948799@www.aquinascollege.edu
SUMMARY:Christmas Break - College Closed
DESCRIPTION:Aquinas College will be closed on Monday\, December 23\, 2024 and will remain closed until Friday\, January 3\, 2025 in honor of the Christmas and New Year holidays. The College will reopen and spring semester classes begin on Monday\, January 6\, 2025.
URL:https://www.aquinascollege.edu/calendar-event/christmas-break-college-closed-2/
LOCATION:Aquinas College\, 4210 Harding Pike\, Nashville\, TN\, 37205\, United States
CATEGORIES:Academic Calendar
GEO:36.132385;-86.842673
X-APPLE-STRUCTURED-LOCATION;VALUE=URI;X-ADDRESS=Aquinas College 4210 Harding Pike Nashville TN 37205 United States;X-APPLE-RADIUS=500;X-TITLE=4210 Harding Pike:geo:-86.842673,36.132385
END:VEVENT
BEGIN:VEVENT
DTSTART;VALUE=DATE:20250106
DTEND;VALUE=DATE:20250107
DTSTAMP:20260419T171709
CREATED:20240311T184326Z
LAST-MODIFIED:20240311T190212Z
UID:10000237-1736121600-1736207999@www.aquinascollege.edu
SUMMARY:First Day of Spring 2025 Semester
DESCRIPTION:Spring semester courses at Aquinas College will begin on Monday\, January 6\, 2025.
URL:https://www.aquinascollege.edu/calendar-event/first-day-of-spring-semester/
LOCATION:Aquinas College\, 4210 Harding Pike\, Nashville\, TN\, 37205\, United States
CATEGORIES:Academic Calendar
GEO:36.132385;-86.842673
X-APPLE-STRUCTURED-LOCATION;VALUE=URI;X-ADDRESS=Aquinas College 4210 Harding Pike Nashville TN 37205 United States;X-APPLE-RADIUS=500;X-TITLE=4210 Harding Pike:geo:-86.842673,36.132385
END:VEVENT
BEGIN:VEVENT
DTSTART;VALUE=DATE:20250120
DTEND;VALUE=DATE:20250121
DTSTAMP:20260419T171709
CREATED:20240311T140856Z
LAST-MODIFIED:20240311T190608Z
UID:10000178-1737331200-1737417599@www.aquinascollege.edu
SUMMARY:M.L.K. Day - College Closed
DESCRIPTION:Aquinas College will be closed for Martin Luther King day on Monday\, January 20\, 2025.
URL:https://www.aquinascollege.edu/calendar-event/m-l-k-day-college-closed-2/
LOCATION:Aquinas College\, 4210 Harding Pike\, Nashville\, TN\, 37205\, United States
CATEGORIES:Academic Calendar
GEO:36.132146;-86.844147
X-APPLE-STRUCTURED-LOCATION;VALUE=URI;X-ADDRESS=Aquinas College 4210 Harding Pike Nashville TN 37205 United States;X-APPLE-RADIUS=500;X-TITLE=4210 Harding Pike:geo:-86.844147,36.132146
END:VEVENT
BEGIN:VEVENT
DTSTART;TZID=America/Chicago:20250123T111500
DTEND;TZID=America/Chicago:20250123T121500
DTSTAMP:20260419T171709
CREATED:20250113T153008Z
LAST-MODIFIED:20250113T160850Z
UID:10000259-1737630900-1737634500@www.aquinascollege.edu
SUMMARY:Holy Sacrifice of the Mass
DESCRIPTION:Please join us in the Aquinas College St. Jude Chapel for the Holy Sacrifice of the Mass on Thursday\, January 23\, 2025 at 11:15 a.m. \n 
URL:https://www.aquinascollege.edu/calendar-event/holy-sacrifice-of-the-mass/
LOCATION:Aquinas College St. Jude Chapel\, 4210 Harding Pike\, Nashville\, TN\, 37205\, United States
CATEGORIES:Academic Calendar,Public Lectures and Programs
END:VEVENT
BEGIN:VEVENT
DTSTART;TZID=America/Chicago:20250128T110000
DTEND;TZID=America/Chicago:20250128T130000
DTSTAMP:20260419T171709
CREATED:20250113T150509Z
LAST-MODIFIED:20250113T160741Z
UID:10000258-1738062000-1738069200@www.aquinascollege.edu
SUMMARY:St. Thomas Aquinas Mass and Celebration
DESCRIPTION:The St. Thomas Aquinas Mass will be held in the Aquinas Center at 11:00 a.m. on Tuesday\, January 28\, 2025\, followed by a celebration luncheon.  Bishop J. Mark Spalding\, J.C.L. will be celebrating the Mass. All are invited to attend.
URL:https://www.aquinascollege.edu/calendar-event/st-thomas-aquinas-mass-and-celebration-2025/
LOCATION:Aquinas Center Building\, 4210 Harding Pike\, Nashville\, TN\, 37205\, United States
CATEGORIES:Academic Calendar,Public Lectures and Programs
END:VEVENT
BEGIN:VEVENT
DTSTART;TZID=America/Chicago:20250128T183000
DTEND;TZID=America/Chicago:20250128T193000
DTSTAMP:20260419T171709
CREATED:20250113T144223Z
LAST-MODIFIED:20250113T160801Z
UID:10000257-1738089000-1738092600@www.aquinascollege.edu
SUMMARY:St. Thomas Aquinas Lecture and Compline
DESCRIPTION:Please join us for the St. Thomas Aquinas Lecture on “Praying Corpus Christi with Saint Thomas Aquinas” presented by\nRev. Luke Van Berkum\, O.P. on Tuesday\, January 28\, 2025 at the St. Cecilia Motherhouse. Compline will follow the lecture.\nAll are welcome to attend. \n  \n \n 
URL:https://www.aquinascollege.edu/calendar-event/st-thomas-aquinas-lecture-and-compline-2/
LOCATION:St. Cecilia Motherhouse\, 801 Dominican Drive\, Nashville\, TN\, 37228\, United States
CATEGORIES:Academic Calendar,Public Lectures and Programs
END:VEVENT
BEGIN:VEVENT
DTSTART;TZID=America/Chicago:20250210T190000
DTEND;TZID=America/Chicago:20250210T203000
DTSTAMP:20260419T171709
CREATED:20240912T172056Z
LAST-MODIFIED:20250116T190345Z
UID:10000246-1739214000-1739219400@www.aquinascollege.edu
SUMMARY:Jubilee Graces: Pilgrims of Hope Lecture #3 of our "Lord\, Teach Us to Pray" Lecture Series
DESCRIPTION:  \nJubilee Graces: Pilgrims of Hope \nSr. Mary Rachel Capets\, O.P. & Sr. Anne Catherine Burleigh\, O.P.
URL:https://www.aquinascollege.edu/calendar-event/jubilee-graces-pilgrims-of-hope-lecture-3-of-our-lord-teach-us-to-pray-lecture-series/
LOCATION:Aquinas Center Building\, 4210 Harding Pike\, Nashville\, TN\, 37205\, United States
CATEGORIES:Public Lectures and Programs
END:VEVENT
BEGIN:VEVENT
DTSTART;TZID=America/Chicago:20250211T112500
DTEND;TZID=America/Chicago:20250211T121500
DTSTAMP:20260419T171709
CREATED:20250205T190041Z
LAST-MODIFIED:20250210T180843Z
UID:10000263-1739273100-1739276100@www.aquinascollege.edu
SUMMARY:Brown Bag Mini-Lecture Series - CANCELLED
DESCRIPTION:Due to unforeseen circumstances\, the Brown Bag Mini-Lecture for Tuesday\, February 11\, 2025 has been cancelled. A new posting will be made as soon as this event has been rescheduled. \n  \n \n 
URL:https://www.aquinascollege.edu/calendar-event/brown-bag-mini-lecture-series/
LOCATION:Aquinas College\, 4210 Harding Pike\, Nashville\, TN\, 37205\, United States
CATEGORIES:Academic Calendar,Alumni and Friends,Public Lectures and Programs,Student Life
GEO:36.132146;-86.844147
X-APPLE-STRUCTURED-LOCATION;VALUE=URI;X-ADDRESS=Aquinas College 4210 Harding Pike Nashville TN 37205 United States;X-APPLE-RADIUS=500;X-TITLE=4210 Harding Pike:geo:-86.844147,36.132146
END:VEVENT
END:VCALENDAR