BEGIN:VCALENDAR
VERSION:2.0
PRODID:-//Aquinas College - Nashville, Tennessee - ECPv6.15.13//NONSGML v1.0//EN
CALSCALE:GREGORIAN
METHOD:PUBLISH
X-WR-CALNAME:Aquinas College - Nashville, Tennessee
X-ORIGINAL-URL:https://www.aquinascollege.edu
X-WR-CALDESC:Events for Aquinas College - Nashville, Tennessee
REFRESH-INTERVAL;VALUE=DURATION:PT1H
X-Robots-Tag:noindex
X-PUBLISHED-TTL:PT1H
BEGIN:VTIMEZONE
TZID:America/Chicago
BEGIN:DAYLIGHT
TZOFFSETFROM:-0600
TZOFFSETTO:-0500
TZNAME:CDT
DTSTART:20220313T080000
END:DAYLIGHT
BEGIN:STANDARD
TZOFFSETFROM:-0500
TZOFFSETTO:-0600
TZNAME:CST
DTSTART:20221106T070000
END:STANDARD
BEGIN:DAYLIGHT
TZOFFSETFROM:-0600
TZOFFSETTO:-0500
TZNAME:CDT
DTSTART:20230312T080000
END:DAYLIGHT
BEGIN:STANDARD
TZOFFSETFROM:-0500
TZOFFSETTO:-0600
TZNAME:CST
DTSTART:20231105T070000
END:STANDARD
BEGIN:DAYLIGHT
TZOFFSETFROM:-0600
TZOFFSETTO:-0500
TZNAME:CDT
DTSTART:20240310T080000
END:DAYLIGHT
BEGIN:STANDARD
TZOFFSETFROM:-0500
TZOFFSETTO:-0600
TZNAME:CST
DTSTART:20241103T070000
END:STANDARD
END:VTIMEZONE
BEGIN:VEVENT
DTSTART;VALUE=DATE:20230529
DTEND;VALUE=DATE:20230530
DTSTAMP:20260423T203943
CREATED:20220609T143603Z
LAST-MODIFIED:20220609T143603Z
UID:10000128-1685318400-1685404799@www.aquinascollege.edu
SUMMARY:Memorial Day - College Closed
DESCRIPTION:
URL:https://www.aquinascollege.edu/calendar-event/memorial-day-college-closed/
LOCATION:Aquinas College\, 4210 Harding Pike\, Nashville\, TN\, 37205\, United States
GEO:36.132146;-86.844147
X-APPLE-STRUCTURED-LOCATION;VALUE=URI;X-ADDRESS=Aquinas College 4210 Harding Pike Nashville TN 37205 United States;X-APPLE-RADIUS=500;X-TITLE=4210 Harding Pike:geo:-86.844147,36.132146
END:VEVENT
BEGIN:VEVENT
DTSTART;VALUE=DATE:20230508
DTEND;VALUE=DATE:20230509
DTSTAMP:20260423T203943
CREATED:20220609T143527Z
LAST-MODIFIED:20220609T143527Z
UID:10000127-1683504000-1683590399@www.aquinascollege.edu
SUMMARY:Maymester Begins
DESCRIPTION:
URL:https://www.aquinascollege.edu/calendar-event/maymester-begins/
LOCATION:Aquinas College\, 4210 Harding Pike\, Nashville\, TN\, 37205\, United States
GEO:36.132146;-86.844147
X-APPLE-STRUCTURED-LOCATION;VALUE=URI;X-ADDRESS=Aquinas College 4210 Harding Pike Nashville TN 37205 United States;X-APPLE-RADIUS=500;X-TITLE=4210 Harding Pike:geo:-86.844147,36.132146
END:VEVENT
BEGIN:VEVENT
DTSTART;VALUE=DATE:20230501
DTEND;VALUE=DATE:20230504
DTSTAMP:20260423T203943
CREATED:20220609T143311Z
LAST-MODIFIED:20220609T143311Z
UID:10000207-1682899200-1683158399@www.aquinascollege.edu
SUMMARY:Final Exams
DESCRIPTION:
URL:https://www.aquinascollege.edu/calendar-event/final-exams-3/
LOCATION:Aquinas College\, 4210 Harding Pike\, Nashville\, TN\, 37205\, United States
GEO:36.132146;-86.844147
X-APPLE-STRUCTURED-LOCATION;VALUE=URI;X-ADDRESS=Aquinas College 4210 Harding Pike Nashville TN 37205 United States;X-APPLE-RADIUS=500;X-TITLE=4210 Harding Pike:geo:-86.844147,36.132146
END:VEVENT
BEGIN:VEVENT
DTSTART;VALUE=DATE:20230426
DTEND;VALUE=DATE:20230427
DTSTAMP:20260423T203943
CREATED:20220609T143228Z
LAST-MODIFIED:20220609T143228Z
UID:10000206-1682467200-1682553599@www.aquinascollege.edu
SUMMARY:Last Day of Spring 2023 Semester Classes
DESCRIPTION:
URL:https://www.aquinascollege.edu/calendar-event/last-day-of-spring-2023-semester-classes/
LOCATION:Aquinas College\, 4210 Harding Pike\, Nashville\, TN\, 37205\, United States
GEO:36.132146;-86.844147
X-APPLE-STRUCTURED-LOCATION;VALUE=URI;X-ADDRESS=Aquinas College 4210 Harding Pike Nashville TN 37205 United States;X-APPLE-RADIUS=500;X-TITLE=4210 Harding Pike:geo:-86.844147,36.132146
END:VEVENT
END:VCALENDAR